BEGIN:VCALENDAR
VERSION:2.0
PRODID:-//Indianapolis Chamber Orchestra - ECPv6.15.20//NONSGML v1.0//EN
CALSCALE:GREGORIAN
METHOD:PUBLISH
X-WR-CALNAME:Indianapolis Chamber Orchestra
X-ORIGINAL-URL:https://www.icomusic.org
X-WR-CALDESC:Events for Indianapolis Chamber Orchestra
REFRESH-INTERVAL;VALUE=DURATION:PT1H
X-Robots-Tag:noindex
X-PUBLISHED-TTL:PT1H
BEGIN:VTIMEZONE
TZID:UTC
BEGIN:STANDARD
TZOFFSETFROM:+0000
TZOFFSETTO:+0000
TZNAME:UTC
DTSTART:20230101T000000
END:STANDARD
END:VTIMEZONE
BEGIN:VEVENT
DTSTART;TZID=UTC:20240309T193000
DTEND;TZID=UTC:20240309T193000
DTSTAMP:20260422T142052
CREATED:20230424T224811Z
LAST-MODIFIED:20240205T194633Z
UID:2196-1710012600-1710012600@www.icomusic.org
SUMMARY:The Passion of Joan of Arc: Voices of Light - Film
DESCRIPTION:Saturday\, March 9 at 7:30PM\nConducted by Matthew Kraemer\, Music Director \nChorusmaster – Eric Schmidt \nOratorio – Voices of Light by Richard Einhorn \nFeaturing DePauw University Choirs \nPresented by:\n														\n															\n			\n						Purchase 2 or More Tickets\n					\n			\n						1 Ticket @ Ticketmaster\n					 \nStudents/Children Free with ticket! Call/Email office to reserve 317-940-9607 info@icomusic.org. Young Professionals (40 and under) tickets $20. Call or email office to redeem. \n“Voices of Light” merges the legendary silent film masterpiece\, The Passion of Joan of Arc\, with a live performance of a ravishing score by award-winning composer Richard Einhorn. Einhorn’s compositions have been described as “hauntingly beautiful” and “sensational.” An incredibly moving composition for solo voices\, featuring the ICO with DePauw University chorus (prepared by ICO Chorusmaster\, Eric Schmidt)\,  and professional soloists\, “Voices of Light” has been hailed as “a triumph” (Los Angeles Times) and “an overwhelming experience” (Chicago Tribune). \nWith well over 250 performances\, “Voices of Light” has a proven popular appeal and a special ability to deeply touch the hearts of its audiences. \n\n										Voices of Light\n\n											\n															Eric Schmidt\, Chorusmaster\n\n										DePauw University Choirs
URL:https://www.icomusic.org/concerts/the-passion-of-joan-of-arc-voices-of-light-film/
LOCATION:Schrott Center for the Arts\, Butler University\, 610 W. 46th St.\, Indianapolis\, IN\, 46208\, United States
CATEGORIES:2023-2024,Masterworks Series,Slider
ATTACH;FMTTYPE=image/jpeg:https://www.icomusic.org/wp-content/uploads/2023/04/joan-of-arc-scaled.jpg
ORGANIZER;CN="Indianapolis Chamber Orchestra":MAILTO:info@icomusic.org
END:VEVENT
END:VCALENDAR