BEGIN:VCALENDAR
VERSION:2.0
PRODID:-//Indianapolis Chamber Orchestra - ECPv6.15.20//NONSGML v1.0//EN
CALSCALE:GREGORIAN
METHOD:PUBLISH
X-WR-CALNAME:Indianapolis Chamber Orchestra
X-ORIGINAL-URL:https://www.icomusic.org
X-WR-CALDESC:Events for Indianapolis Chamber Orchestra
REFRESH-INTERVAL;VALUE=DURATION:PT1H
X-Robots-Tag:noindex
X-PUBLISHED-TTL:PT1H
BEGIN:VTIMEZONE
TZID:UTC
BEGIN:STANDARD
TZOFFSETFROM:+0000
TZOFFSETTO:+0000
TZNAME:UTC
DTSTART:20220101T000000
END:STANDARD
END:VTIMEZONE
BEGIN:VEVENT
DTSTART;TZID=UTC:20231118T193000
DTEND;TZID=UTC:20231118T193000
DTSTAMP:20260422T205431
CREATED:20230424T223453Z
LAST-MODIFIED:20231017T202104Z
UID:2186-1700335800-1700335800@www.icomusic.org
SUMMARY:Suite Brilliance
DESCRIPTION:Sat. November 18 at 7:30 PM\nConducted by Matthew Kraemer\, Music Director \nSpecial guests \nNancy Ambrose King\, OboeRyan King\, Clarinet \nConsortium Commission Miguel del Aguila ICO Composer-in-Residence 23-24 \n  \n			\n						Purchase 2 or More Tickets\n					\n			\n						1 Ticket @ Ticketmaster\n					 \nStudents/Children Free all season long with reserved ticket! Call or email to reserve at 317-940-9607 info@icomusic.org \nRepertoire: \nSaint-Saëns          Suite in D major\, Op. 49           \nMiguel del Aguila      Concierto Con Brio \n    Nancy Ambrose King\, Oboe \n    Ryan King\, Clarinet                   \nTailleferre       Petite Suite                    \nIbert               Tropismes pour les amours imaginaires \nConcierto Con Brio\, the Indiana consortium premiere\, is composed by living Uruguayan-American composer and 23-24 ICO Composer-in-Residence\, Miguel del Aguila. This concerto for oboe and clarinet was written for mother/son combination\, Nancy Ambrose King\, oboe\, and Ryan King\, clarinet. With movements inspired by tango and samba dance rhythms\, “Concierto” balances perfectly with the French themes of imagination\, light\, and dance illuminated by Saint-Saëns\, Ibert and Tailleferre completing the evening. \n			\n						Listen to Podcast Episodes with Guest Artists & Miguel del Aguila\n					 \n\n											\n															Nancy Ambrose King\, Oboe\n\n											\n															Miguel del Aguila\, Composer\n\n											\n															Ryan King\, Clarinet
URL:https://www.icomusic.org/concerts/suite-brilliance/
LOCATION:Schrott Center for the Arts\, Butler University\, 610 W. 46th St.\, Indianapolis\, IN\, 46208\, United States
CATEGORIES:2023-2024,Masterworks Series,Slider
ATTACH;FMTTYPE=image/jpeg:https://www.icomusic.org/wp-content/uploads/2023/04/newnancyryan.jpg
ORGANIZER;CN="Indianapolis Chamber Orchestra":MAILTO:info@icomusic.org
END:VEVENT
END:VCALENDAR