BEGIN:VCALENDAR
VERSION:2.0
PRODID:-//Indianapolis Chamber Orchestra - ECPv6.15.20//NONSGML v1.0//EN
CALSCALE:GREGORIAN
METHOD:PUBLISH
X-ORIGINAL-URL:https://www.icomusic.org
X-WR-CALDESC:Events for Indianapolis Chamber Orchestra
REFRESH-INTERVAL;VALUE=DURATION:PT1H
X-Robots-Tag:noindex
X-PUBLISHED-TTL:PT1H
BEGIN:VTIMEZONE
TZID:UTC
BEGIN:STANDARD
TZOFFSETFROM:+0000
TZOFFSETTO:+0000
TZNAME:UTC
DTSTART:20230101T000000
END:STANDARD
END:VTIMEZONE
BEGIN:VEVENT
DTSTART;TZID=UTC:20240120T193000
DTEND;TZID=UTC:20240120T193000
DTSTAMP:20260422T160015
CREATED:20230424T224643Z
LAST-MODIFIED:20240119T183531Z
UID:2194-1705779000-1705779000@www.icomusic.org
SUMMARY:Silenced Voices
DESCRIPTION:Saturday\, January 20th at 7:30PM\nSpecial guests Julian Rhee\, ViolinComposer Victoria Bond \nConducted by Matthew Kraemer\, Music Director \nPresented by:\n																\n															 \nAdditional support from:\n																\n															 \nRepertoire:\nVictoria Bond               Anne Frank’s Tree                                                  \nSchreker                      Kammersymphonie                   \nKorngold                       Straussiana                                   \nMendelssohn                Violin Concerto \n                    Julian Rhee\, Violin \nExploring the people\, composers\, and literature silenced by Nazi Germany\, Silenced Voices\, features a world premiere commission by Victoria Bond\, “Anne Frank’s Tree.” Through a musical meditation on Anne’s Tree as a symbol of hope\, Bond connects audiences to the sapling of Anne’s tree that grows at the Indianapolis Children’s Museum.  2022 IVCI Silver Medalist\, Julian Rhee\, performs the stirring Mendelssohn Violin Concerto. Additional banned composers Schreker and Korngold will also be featured.   \n			\n						Purchase 2 or More Tickets\n					 \nPlease call 317-940-9607 to purchase tickets. Our ticketing platform is currently down. \n			\n						1 Ticket @ Ticketmaster\n					 \nStudents/Children Free all season long with reserved ticket! Call or Email office to reserve at 317-940-9607 info@icomusic.org. Young Professionals (40 and under) tickets are $20. Call or email office to redeem. \n\n											\n															Julian Rhee\, Violin\n\n										\n\n											\n															Victoria Bond\, Composer\n\n											\n															Sadie Cohen\, Narrator
URL:https://www.icomusic.org/concerts/silenced-voices/
LOCATION:Schrott Center for the Arts\, Butler University\, 610 W. 46th St.\, Indianapolis\, IN\, 46208\, United States
CATEGORIES:2023-2024,Masterworks Series,Slider
ATTACH;FMTTYPE=image/jpeg:https://www.icomusic.org/wp-content/uploads/2023/04/silenced-voices-scaled.jpg
ORGANIZER;CN="Indianapolis Chamber Orchestra":MAILTO:info@icomusic.org
END:VEVENT
END:VCALENDAR