BEGIN:VCALENDAR
VERSION:2.0
PRODID:-//Indianapolis Chamber Orchestra - ECPv6.15.20//NONSGML v1.0//EN
CALSCALE:GREGORIAN
METHOD:PUBLISH
X-WR-CALNAME:Indianapolis Chamber Orchestra
X-ORIGINAL-URL:https://www.icomusic.org
X-WR-CALDESC:Events for Indianapolis Chamber Orchestra
REFRESH-INTERVAL;VALUE=DURATION:PT1H
X-Robots-Tag:noindex
X-PUBLISHED-TTL:PT1H
BEGIN:VTIMEZONE
TZID:UTC
BEGIN:STANDARD
TZOFFSETFROM:+0000
TZOFFSETTO:+0000
TZNAME:UTC
DTSTART:20220101T000000
END:STANDARD
END:VTIMEZONE
BEGIN:VEVENT
DTSTART;TZID=UTC:20231208T193000
DTEND;TZID=UTC:20231208T193000
DTSTAMP:20260422T173803
CREATED:20230424T224035Z
LAST-MODIFIED:20231209T025107Z
UID:2188-1702063800-1702063800@www.icomusic.org
SUMMARY:A Classical Christmas
DESCRIPTION:*Online sales for this performance have closed. Tickets will be available at the door!\nFriday\, December 8 at 7:30PM\nConducted by Matthew Kraemer\, Music Director \nChorusmaster Eric Schmidt \nICO Professional Chorus \nRepertoire:\nHandel – Messiah\, Part the First \nSaint-Saëns – Oratorio de Noël \n			\n						Program Book\n					 \n\nWith Support from: \n															\n			\n						Packages of 2 or 4 Tickets\n					\n			\n						Single Tickets\n					 \nStudents/Children Free all season long with reserved ticket! Call or Email office to reserve at 317-940-9607 or info@icomusic.org \nICO’s favorite holiday tradition returns with the entire Christmas portion of Handel’s Messiah. Paired with Saint-Saëns’ Oratorio de Noël\, the ICO will be joined by their own professional chorus (prepared by ICO Chorusmaster\, Eric Schmidt) and guest soloists. This mixture of festive music from England and France will envelop you and your loved ones with the holiday spirit. \n																														 \n\n											\n															Eric Schmidt\, Chorusmaster\n\n											\n															Mary Martin\, Soprano\n\n											\n															Mitzi Westra\, Mezzo-Soprano\n\n											\n															Norman Shankle\, Tenor\n\n											\n															Timothy LeFebvre\, Bass
URL:https://www.icomusic.org/concerts/a-classical-christmas/
LOCATION:Indiana Landmarks Center\, 1201 Central Ave.\, Indianapolis\, IN\, 46202\, United States
CATEGORIES:2023-2024,Masterworks Series,Slider
ATTACH;FMTTYPE=image/jpeg:https://www.icomusic.org/wp-content/uploads/2023/04/event-manager-TM-1-scaled.jpg
ORGANIZER;CN="Indianapolis Chamber Orchestra":MAILTO:info@icomusic.org
END:VEVENT
BEGIN:VEVENT
DTSTART;TZID=UTC:20231210T150000
DTEND;TZID=UTC:20231210T150000
DTSTAMP:20260422T173803
CREATED:20230424T224456Z
LAST-MODIFIED:20231210T210720Z
UID:2192-1702220400-1702220400@www.icomusic.org
SUMMARY:A Classical Christmas Family “Sing Along”
DESCRIPTION:Online sales for this performance have closed. Tickets will be available at the door! \nSunday\, December 10 at 3:00PM\nConducted by Matthew Kraemer\, Music Director \nChorusmaster Eric Schmidt \nICO Professional Chorus \nAfter a three-year hiatus the ICO Christmas sing-along returns!! Better than before\, bring your entire family to sing the Christmas portion of Handel’s Messiah along with the NEW addition of beloved Christmas carols.  You bring your voice; we bring the music! \nRepertoire: \nHandel – Messiah\, Part the First – Christmas portion \nChristmas Carols – Sing Along \n			\n						Program Book\n					\n			\n						Packages of 2 or 4 Tickets\n					\n			\n						Single Tickets\n					 \nStudents/Children Free all season long with reserved ticket! Call or Email the office to reserve at 317-940-9607 info@icomusic.org \n\n											\n															Mary Martin\, Soprano\n\n											\n															Mitzi Westra\, Mezzo-Soprano\n\n											\n															Norman Shankle\, Tenor\n\n											\n															Timothy LeFebvre\, Bass\n																														 \n\n											\n															Eric Schmidt\, Chorusmaster
URL:https://www.icomusic.org/concerts/a-classical-christmas-family-sing-along/
LOCATION:Indiana Landmarks Center\, 1201 Central Ave.\, Indianapolis\, IN\, 46202\, United States
CATEGORIES:2023-2024,Community Engagement,Masterworks Series,Slider
ATTACH;FMTTYPE=image/jpeg:https://www.icomusic.org/wp-content/uploads/2023/04/singalong-scaled.jpg
ORGANIZER;CN="Indianapolis Chamber Orchestra":MAILTO:info@icomusic.org
END:VEVENT
END:VCALENDAR