BEGIN:VCALENDAR
VERSION:2.0
PRODID:-//Indianapolis Chamber Orchestra - ECPv6.15.20//NONSGML v1.0//EN
CALSCALE:GREGORIAN
METHOD:PUBLISH
X-ORIGINAL-URL:https://www.icomusic.org
X-WR-CALDESC:Events for Indianapolis Chamber Orchestra
REFRESH-INTERVAL;VALUE=DURATION:PT1H
X-Robots-Tag:noindex
X-PUBLISHED-TTL:PT1H
BEGIN:VTIMEZONE
TZID:UTC
BEGIN:STANDARD
TZOFFSETFROM:+0000
TZOFFSETTO:+0000
TZNAME:UTC
DTSTART:20240101T000000
END:STANDARD
END:VTIMEZONE
BEGIN:VEVENT
DTSTART;TZID=UTC:20250322T180000
DTEND;TZID=UTC:20250322T220000
DTSTAMP:20260423T204238
CREATED:20240509T002143Z
LAST-MODIFIED:20250131T184905Z
UID:4703-1742666400-1742680800@www.icomusic.org
SUMMARY:Orchestration 2025
DESCRIPTION:Tickets on sale now! Deadline for purchase is March 10th. Visit our event page to learn more HERE.\n  \n   \nTitle Presenting Sponsor:\n \n\nOrchestra Presenting Sponsor:\n \n\nStation Sponsors:\n \n\nTable Sponsors:\n \n 
URL:https://www.icomusic.org/concerts/orchestration-2025/
LOCATION:Crane Bay Event Center\, 551 W. Merrill St.\, Indianapolis\, IN\, 46225\, United States
CATEGORIES:2024-2025,Shows
ORGANIZER;CN="Indianapolis Chamber Orchestra":MAILTO:info@icomusic.org
END:VEVENT
END:VCALENDAR