BEGIN:VCALENDAR
VERSION:2.0
PRODID:-//Indianapolis Chamber Orchestra - ECPv6.15.20//NONSGML v1.0//EN
CALSCALE:GREGORIAN
METHOD:PUBLISH
X-ORIGINAL-URL:https://www.icomusic.org
X-WR-CALDESC:Events for Indianapolis Chamber Orchestra
REFRESH-INTERVAL;VALUE=DURATION:PT1H
X-Robots-Tag:noindex
X-PUBLISHED-TTL:PT1H
BEGIN:VTIMEZONE
TZID:UTC
BEGIN:STANDARD
TZOFFSETFROM:+0000
TZOFFSETTO:+0000
TZNAME:UTC
DTSTART:20240101T000000
END:STANDARD
END:VTIMEZONE
BEGIN:VEVENT
DTSTART;TZID=UTC:20250308T193000
DTEND;TZID=UTC:20250308T213000
DTSTAMP:20260422T210314
CREATED:20240509T000600Z
LAST-MODIFIED:20250307T210416Z
UID:4692-1741462200-1741469400@www.icomusic.org
SUMMARY:Charlie Chaplin's The Gold Rush
DESCRIPTION:The Chevalier: A Musical Play				\n				\n				\n		\n					\n				\n				\n									\n					\n						\n									Get Tickets\n					\n					\n				\n								\n				\n				\n				\n									Discover the remarkable life and music of Joseph Bologne\, Chevalier de Saint-Georges—composer\, virtuoso violinist\, champion fencer\, military leader\, and crusader for equality—through The Chevalier\, a powerful musical play by Bill Barclay\, presented the Madam Walker Legacy Center. The Chevalier is played by violinist\, Brendon Elliott. Blending live orchestra\, costumed actors\, and solo violin\, this production explores Bologne’s friendships with Mozart and Marie Antoinette\, and his fight for justice during the French Revolution\, drawing compelling connections to today’s pursuit of equality. Don’t miss this powerful meditation on race\, revolution\, and rediscovered genius—Bologne’s time is now. 								\n				\n					\n				\n		\n					\n		\n				\n				\n					Date: May 16\, 2026 at 7:30pm				\n				\n				\n				\n					Location: The Madam Walker legacy center				\n				\n				\n				\n									Conducted by Matthew Kraemer 								\n				\n				\n				\n					Brendon Elliott presented by:				\n				\n				\n				\n																														\n				\n				\n		\n		\n					\n				\n				\n					\n	\n				\n				\n					\n				\n		\n					\n				\n				\n					tickets:				\n				\n					\n				\n		\n					\n				\n				\n									\n					\n						\n									Tickets available On Ticketmaster\n					\n					\n				\n								\n				\n				\n				\n																														\n				\n					\n				\n				\n					\n				\n		\n					\n				\n				\n												\n																					Matthew Kraemer\, Conductor & Music Director\n										\n									\n				\n				\n				\n												\n											\n															\n											Brendon Elliott\, Violinist\n										\n									\n				\n					\n				\n		\n					\n		\n		\n					\n				\n				\n					\n	\n	Date & Time:	\n			May 16\n\n	\n\n	  @  \n\n\n7:30 pm\n\n		\n\n\n\n	\n	  -  \n\n9:00 pm\n\n\n\n	\n				\n				\n					\n				\n		\n					\n				\n				\n					\n	\n		\n\n	\n	Add to calendar	\n		\n	\n\n		\n			\n									\n	Google Calendar\n\n									\n	iCalendar\n\n									\n	Outlook 365\n\n									\n	Outlook Live\n\n							\n		\n\n		\n	\n\n				\n				\n					\n				\n				\n		\n				\n				\n					\n				\n				\n	\n	Madam Walker Legacy Center\n	\n	\n\n617 Indiana Ave.\n	\n		\n		Indianapolis\,\n\n	IN\n\n\n	United States\n\n\n\n\n	+ Google Map \n\n\n	\n				 \n\n\n	\n	 \n\n\n\n	\n\n\n\n		\n	\n				\n				\n				\n					\n				\n		\n					\n		\n				\n				\n				\n					\n\n\n\n  \n\n				\n				\n				\n				\n					\n	\n		\n\n				American Sound: with Dance Kaleidoscope
URL:https://www.icomusic.org/concerts/charlie-chaplins-the-gold-rush/
LOCATION:Schrott Center for the Arts\, Butler University\, 610 W. 46th St.\, Indianapolis\, IN\, 46208\, United States
CATEGORIES:2024-2025,Masterworks Series,Shows
ATTACH;FMTTYPE=image/jpeg:https://www.icomusic.org/wp-content/uploads/2024/05/march-gold-rush-header.jpg
ORGANIZER;CN="Indianapolis Chamber Orchestra":MAILTO:info@icomusic.org
END:VEVENT
END:VCALENDAR