BEGIN:VCALENDAR
VERSION:2.0
PRODID:-//Indianapolis Chamber Orchestra - ECPv6.15.20//NONSGML v1.0//EN
CALSCALE:GREGORIAN
METHOD:PUBLISH
X-WR-CALNAME:Indianapolis Chamber Orchestra
X-ORIGINAL-URL:https://www.icomusic.org
X-WR-CALDESC:Events for Indianapolis Chamber Orchestra
REFRESH-INTERVAL;VALUE=DURATION:PT1H
X-Robots-Tag:noindex
X-PUBLISHED-TTL:PT1H
BEGIN:VTIMEZONE
TZID:UTC
BEGIN:STANDARD
TZOFFSETFROM:+0000
TZOFFSETTO:+0000
TZNAME:UTC
DTSTART:20230101T000000
END:STANDARD
END:VTIMEZONE
BEGIN:VEVENT
DTSTART;TZID=UTC:20241123T193000
DTEND;TZID=UTC:20241123T213000
DTSTAMP:20260425T115423
CREATED:20240508T235731Z
LAST-MODIFIED:20241010T195456Z
UID:4684-1732390200-1732397400@www.icomusic.org
SUMMARY:Autumn Sketches: Vaughan Williams\, Mozart and Leonid Sirotkin
DESCRIPTION:Autumn Sketches:\nVaughan Williams\, Mozart\, Sirotkin\nICO’s own principal oboe\, Leonid Sirotkin\, is featured on Vaughan Williams’ iconic Concerto for Oboe and Strings in a minor. Continue to immerse yourself in the lush landscapes of Europe with Martin’s Esquisse pour orchestre (Sketch for Orchestra). Then\, celebrate Mozart with Brazilian composer\, Villa-Lobos’ Sinfonietta No. 1 “In Memory of Mozart” and with Mozart’s own Symphony No. 35 in D Major (Haffner). \nStudents/Children are Free with reserved ticket! Call or Email office to reserve at 317-940-9607 info@icomusic.org \nDate: November 23\, 2024 at 7:30pm\nVilla-Lobos                     Sinfonietta No. 1\, in B-flat Major \nVaughan Williams        Concerto for Oboe and Strings\, in a minor \n                           Leonid Sirotkin\, Oboe \nMartin                              Esquisse pour orchestre \nMozart                              Symphony No. 35\, in D Major (Haffner) \nConducted by Matthew Kraemer \npresented by:\n\nOpportunity Available\n \ntickets:\n\nSeason Tickets ON SALE NOW\n\n\n2 & 4 TICKET PACKAGES ON SALE NOW\n\n\nSingle Tickets @ Ticketmaster\n \n\n Matthew Kraemer\, Conductor & Music Director\n\n Leonid Sirotkin\, Oboe\nDate & Time:\nNovember 23\n@\n7:30 pm\n–\n9:30 pm\nCost:\n$35 – $45 \n\n\nAdd to calendar \n \n\nGoogle Calendar\niCalendar\nOutlook 365\nOutlook Live\n\nSchrott Center for the Arts\, Butler University\n610 W. 46th St. \nIndianapolis\,\nIN\n46208\nUnited States\n+ Google Map \n317-940-9607 \n\n \n\n\n\nSummer Nights with Ashley Dixon \n\nA Classical Christmas
URL:https://www.icomusic.org/concerts/autumn-sketches-vaughan-williams-mozart-and-leonid-sirotkin/
LOCATION:Schrott Center for the Arts\, Butler University\, 610 W. 46th St.\, Indianapolis\, IN\, 46208\, United States
CATEGORIES:2024-2025,Masterworks Series,Shows
ATTACH;FMTTYPE=image/jpeg:https://www.icomusic.org/wp-content/uploads/2024/05/November-Header-2.jpg
ORGANIZER;CN="Indianapolis Chamber Orchestra":MAILTO:info@icomusic.org
END:VEVENT
END:VCALENDAR